BEGIN:VCALENDAR
VERSION:2.0
PRODID:-//Stratis iCal API//FR
CALSCALE:GREGORIAN
X-WR-CALNAME:Vide‑grenier du 3 mai à Bénouville
BEGIN:VEVENT
UID:event-24511
SUMMARY:Vide‑grenier du 3 mai à Bénouville
DESCRIPTION:Le vide‑grenier de Bénouville revient le 3 mai pour une journée conviviale et familiale. Installé sur la place Beau Soleil  l’événement accueillera visiteurs et exposants de 6h à 18h  avec une entrée accessible à 1 euro.
DTSTAMP:20260424T125443Z
DTSTART:20260502T220000Z
DTEND:20260502T220000Z
STATUS:CONFIRMED
SEQUENCE:1
BEGIN:VALARM
TRIGGER:-PT30M
DESCRIPTION:Vide‑grenier du 3 mai à Bénouville
ACTION:DISPLAY
END:VALARM
END:VEVENT
END:VCALENDAR